View In:
  ArcGIS JavaScript
  ArcGIS Map Viewer by SR
  ArcGIS Earth
  ArcMap
View Footprint In:
  ArcGIS Map Viewer by SR
Service Description:  Imagery taken June 28th 2023 for tax roll purposes.
Name:  Imagery/Drone_06_28_2023
Description:  Imagery taken June 28th 2023 for tax roll purposes.
Single Fused Map Cache:  false
Extent: 
XMin: 588308.3996859656
YMin: 4181370.400634805
XMax: 588706.3496800135
YMax: 4181918.600629026
Spatial Reference: 32610
 (32610)
Initial Extent:
XMin: 588308.3996859656
YMin: 4181370.400634805
XMax: 588706.3496800135
YMax: 4181918.600629026
Spatial Reference: 32610
 (32610)
Full Extent:
XMin: 588308.3996859656
YMin: 4181370.400634805
XMax: 588706.3496800135
YMax: 4181918.600629026
Spatial Reference: 32610
 (32610)
Pixel Size X: 0.04999999925215113
Pixel Size Y:  0.049999999472898946
Band Count: 4
Pixel Type: U8
RasterFunction Infos:  {"rasterFunctionInfos": [{
 "name": "None",
 "description": "",
 "help": ""
}]}
Mensuration Capabilities: Basic
Has Histograms:  true
Has Colormap:  false
Has Multi Dimensions :  false
Rendering Rule: 
Min Scale:  0
Max Scale:  0
Copyright Text:  AES
Service Data Type:  esriImageServiceDataTypeGeneric
Min Values:  0, 0, 0, 0
Max Values:  255, 255, 255, 255
Mean Values:  113.73739353899, 107.99017451672, 97.761969577864, 228.08616243025
Standard Deviation Values:  62.238020995241, 60.163686175724, 60.886723321283, 78.349690477417
Object ID Field:  
Fields: 
None
Default Mosaic Method:  Center
Allowed Mosaic Methods:  
SortField:  
SortValue:  null
Mosaic Operator:  First
Default Compression Quality:  75
Default Resampling Method:  Bilinear
Max Record Count:  null
Max Image Height:  4100
Max Image Width:  15000
Max Download Image Count:  null
Max Mosaic Image Count:  null
Allow Raster Function:  true
Allow Copy:  null
Allow Analysis:  null
Allow Compute TiePoints:  false
Supports Statistics:  false
Supports Advanced Queries:  false
Use StandardizedQueries:  true
Raster Type Infos: 
Name: Raster Dataset
Description: Supports all ArcGIS Raster Datasets
Help: 
Has Raster Attribute Table: false
Edit Fields Info:  null
Ownership Based AccessControl For Rasters:  null
Child Resources:
  
Info
  Histograms
  Key Properties
  Legend
  Raster Function Infos
Supported Operations:
  
Export Image
  Identify
  Measure
  Compute Histograms
  Compute Statistics Histograms
  Get Samples
  Compute Class Statistics
  Query Boundary
  Compute Pixel Location
  Validate
  Project