{
 "currentVersion": 10.81,
 "serviceDescription": "Imagery taken June 28th 2023 for tax roll purposes.",
 "name": "Imagery/Drone_06_28_2023",
 "description": "Imagery taken June 28th 2023 for tax roll purposes.",
 "extent": {
  "xmin": 588308.3996859656,
  "ymin": 4181370.400634805,
  "xmax": 588706.3496800135,
  "ymax": 4181918.600629026,
  "spatialReference": {
   "wkid": 32610,
   "latestWkid": 32610
  }
 },
 "initialExtent": {
  "xmin": 588308.3996859656,
  "ymin": 4181370.400634805,
  "xmax": 588706.3496800135,
  "ymax": 4181918.600629026,
  "spatialReference": {
   "wkid": 32610,
   "latestWkid": 32610
  }
 },
 "fullExtent": {
  "xmin": 588308.3996859656,
  "ymin": 4181370.400634805,
  "xmax": 588706.3496800135,
  "ymax": 4181918.600629026,
  "spatialReference": {
   "wkid": 32610,
   "latestWkid": 32610
  }
 },
 "pixelSizeX": 0.04999999925215113,
 "pixelSizeY": 0.049999999472898946,
 "bandCount": 4,
 "pixelType": "U8",
 "minPixelSize": 0,
 "maxPixelSize": 0,
 "copyrightText": "AES",
 "serviceDataType": "esriImageServiceDataTypeGeneric",
 "minValues": [
  0,
  0,
  0,
  0
 ],
 "maxValues": [
  255,
  255,
  255,
  255
 ],
 "meanValues": [
  113.73739353899,
  107.99017451672,
  97.761969577864,
  228.08616243025
 ],
 "stdvValues": [
  62.238020995241,
  60.163686175724,
  60.886723321283,
  78.349690477417
 ],
 "objectIdField": "",
 "fields": [],
 "capabilities": "Image,Metadata,Mensuration",
 "defaultMosaicMethod": "Center",
 "allowedMosaicMethods": "",
 "sortField": "",
 "sortValue": null,
 "sortAscending": true,
 "mosaicOperator": "First",
 "defaultCompressionQuality": 75,
 "defaultResamplingMethod": "Bilinear",
 "maxImageHeight": 4100,
 "maxImageWidth": 15000,
 "allowRasterFunction": true,
 "rasterFunctionInfos": [
  {
   "name": "None",
   "description": "",
   "help": ""
  }
 ],
 "rasterTypeInfos": [
  {
   "name": "Raster Dataset",
   "description": "Supports all ArcGIS Raster Datasets",
   "help": ""
  }
 ],
 "mensurationCapabilities": "Basic",
 "hasHistograms": true,
 "hasColormap": false,
 "hasRasterAttributeTable": false,
 "minScale": 0,
 "maxScale": 0,
 "exportTilesAllowed": false,
 "hasMultidimensions": false,
 "supportsStatistics": false,
 "supportsAdvancedQueries": false,
 "editFieldsInfo": null,
 "ownershipBasedAccessControlForRasters": null,
 "allowComputeTiePoints": false,
 "useStandardizedQueries": true,
 "advancedQueryCapabilities": {
  "useStandardizedQueries": true,
  "supportsStatistics": false,
  "supportsOrderBy": false,
  "supportsDistinct": false,
  "supportsPagination": false
 },
 "spatialReference": {
  "wkid": 32610,
  "latestWkid": 32610
 }
}
