View In:
ArcGIS JavaScript
ArcGIS Map Viewer by SR
ArcGIS Earth
ArcMap
View Footprint In:
ArcGIS Map Viewer by SR
Service Description: Image flown by Contra Costa County consortium on approximately 11/18/2019.
Name: Imagery/Aerial_11_18_2019
Description: Image flown by Contra Costa County consortium on approximately 11/18/2019.
Single Fused Map Cache: false
Extent:
XMin: 6002080
YMin: 2087381
XMax: 6263440
YMax: 2227301
Spatial Reference: 103005
(6420)
Initial Extent:
XMin: 6002080
YMin: 2087381
XMax: 6263440
YMax: 2227301
Spatial Reference: 103005
(6420)
Full Extent:
XMin: 6002080
YMin: 2087381
XMax: 6263440
YMax: 2227301
Spatial Reference: 103005
(6420)
Pixel Size X: 0.25
Pixel Size Y: 0.25
Band Count: 3
Pixel Type: U8
RasterFunction Infos: {"rasterFunctionInfos": [{
"name": "None",
"description": "",
"help": ""
}]}
Mensuration Capabilities: Basic
Has Histograms: true
Has Colormap: false
Has Multi Dimensions : false
Rendering Rule:
Min Scale: 0
Max Scale: 0
Copyright Text: AES
Service Data Type: esriImageServiceDataTypeRGB
Min Values: 0, 23, 0
Max Values: 255, 255, 255
Mean Values: 176.93048007246, 169.30536684783, 147.42470561594
Standard Deviation Values: 63.77003744736, 65.676140723457, 81.059218552102
Object ID Field:
Fields:
None
Default Mosaic Method: Center
Allowed Mosaic Methods:
SortField:
SortValue: null
Mosaic Operator: First
Default Compression Quality: 75
Default Resampling Method: Bilinear
Max Record Count: null
Max Image Height: 4100
Max Image Width: 15000
Max Download Image Count: null
Max Mosaic Image Count: null
Allow Raster Function: true
Allow Copy: null
Allow Analysis: null
Allow Compute TiePoints: false
Supports Statistics: false
Supports Advanced Queries: false
Use StandardizedQueries: true
Raster Type Infos:
Name: Raster Dataset
Description: Supports all ArcGIS Raster Datasets
Help:
Has Raster Attribute Table: false
Edit Fields Info: null
Ownership Based AccessControl For Rasters: null
Child Resources:
Info
Histograms
Key Properties
Legend
Raster Function Infos
Supported Operations:
Export Image
Identify
Measure
Compute Histograms
Compute Statistics Histograms
Get Samples
Compute Class Statistics
Query Boundary
Compute Pixel Location
Validate
Project