{
 "currentVersion": 10.81,
 "serviceDescription": "Image flown by Contra Costa County consortium on approximately 11/18/2019.",
 "name": "Imagery/Aerial_11_18_2019",
 "description": "Image flown by Contra Costa County consortium on approximately 11/18/2019.",
 "extent": {
  "xmin": 6002080,
  "ymin": 2087381,
  "xmax": 6263440,
  "ymax": 2227301,
  "spatialReference": {
   "wkid": 103005,
   "latestWkid": 6420
  }
 },
 "initialExtent": {
  "xmin": 6002080,
  "ymin": 2087381,
  "xmax": 6263440,
  "ymax": 2227301,
  "spatialReference": {
   "wkid": 103005,
   "latestWkid": 6420
  }
 },
 "fullExtent": {
  "xmin": 6002080,
  "ymin": 2087381,
  "xmax": 6263440,
  "ymax": 2227301,
  "spatialReference": {
   "wkid": 103005,
   "latestWkid": 6420
  }
 },
 "pixelSizeX": 0.25,
 "pixelSizeY": 0.25,
 "bandCount": 3,
 "pixelType": "U8",
 "minPixelSize": 0,
 "maxPixelSize": 0,
 "copyrightText": "AES",
 "serviceDataType": "esriImageServiceDataTypeRGB",
 "minValues": [
  0,
  23,
  0
 ],
 "maxValues": [
  255,
  255,
  255
 ],
 "meanValues": [
  176.93048007246,
  169.30536684783,
  147.42470561594
 ],
 "stdvValues": [
  63.77003744736,
  65.676140723457,
  81.059218552102
 ],
 "objectIdField": "",
 "fields": [],
 "capabilities": "Image,Metadata,Mensuration",
 "defaultMosaicMethod": "Center",
 "allowedMosaicMethods": "",
 "sortField": "",
 "sortValue": null,
 "sortAscending": true,
 "mosaicOperator": "First",
 "defaultCompressionQuality": 75,
 "defaultResamplingMethod": "Bilinear",
 "maxImageHeight": 4100,
 "maxImageWidth": 15000,
 "allowRasterFunction": true,
 "rasterFunctionInfos": [
  {
   "name": "None",
   "description": "",
   "help": ""
  }
 ],
 "rasterTypeInfos": [
  {
   "name": "Raster Dataset",
   "description": "Supports all ArcGIS Raster Datasets",
   "help": ""
  }
 ],
 "mensurationCapabilities": "Basic",
 "hasHistograms": true,
 "hasColormap": false,
 "hasRasterAttributeTable": false,
 "minScale": 0,
 "maxScale": 0,
 "exportTilesAllowed": false,
 "hasMultidimensions": false,
 "supportsStatistics": false,
 "supportsAdvancedQueries": false,
 "editFieldsInfo": null,
 "ownershipBasedAccessControlForRasters": null,
 "allowComputeTiePoints": false,
 "useStandardizedQueries": true,
 "advancedQueryCapabilities": {
  "useStandardizedQueries": true,
  "supportsStatistics": false,
  "supportsOrderBy": false,
  "supportsDistinct": false,
  "supportsPagination": false
 },
 "spatialReference": {
  "wkid": 103005,
  "latestWkid": 6420
 }
}
