View In:
  ArcGIS JavaScript
  ArcGIS Map Viewer by SR
  ArcGIS Earth
  ArcMap
View Footprint In:
  ArcGIS Map Viewer by SR
Service Description:  Imagery taken June 27th 2024 for tax roll purposes.
Name:  Imagery/Drone_06_27_2024_Faria
Description:  Imagery taken June 27th 2024 for tax roll purposes.
Single Fused Map Cache:  false
Extent: 
XMin: 6129067.614720394
YMin: 2108379.53790699
XMax: 6130476.491035256
YMax: 2110071.436423219
Spatial Reference: 102643
 (2227)
Initial Extent:
XMin: 6129067.614720394
YMin: 2108379.53790699
XMax: 6130476.491035256
YMax: 2110071.436423219
Spatial Reference: 102643
 (2227)
Full Extent:
XMin: 6129067.614720394
YMin: 2108379.53790699
XMax: 6130476.491035256
YMax: 2110071.436423219
Spatial Reference: 102643
 (2227)
Pixel Size X: 0.16407084137203912
Pixel Size Y:  0.16407084137207992
Band Count: 4
Pixel Type: U8
RasterFunction Infos:  {"rasterFunctionInfos": [{
 "name": "None",
 "description": "",
 "help": ""
}]}
Mensuration Capabilities: Basic
Has Histograms:  true
Has Colormap:  false
Has Multi Dimensions :  false
Rendering Rule: 
Min Scale:  0
Max Scale:  0
Copyright Text:  AES
Service Data Type:  esriImageServiceDataTypeGeneric
Min Values:  0, 0, 0, 0
Max Values:  255, 255, 255, 255
Mean Values:  102.12182117763, 94.097083750504, 86.120102663011, 193.30679142418
Standard Deviation Values:  74.051251623624, 69.115701972577, 66.932590389722, 109.20492817237
Object ID Field:  
Fields: 
None
Default Mosaic Method:  Center
Allowed Mosaic Methods:  
SortField:  
SortValue:  null
Mosaic Operator:  First
Default Compression Quality:  75
Default Resampling Method:  Bilinear
Max Record Count:  null
Max Image Height:  4100
Max Image Width:  15000
Max Download Image Count:  null
Max Mosaic Image Count:  null
Allow Raster Function:  true
Allow Copy:  null
Allow Analysis:  null
Allow Compute TiePoints:  false
Supports Statistics:  false
Supports Advanced Queries:  false
Use StandardizedQueries:  true
Raster Type Infos: 
Name: Raster Dataset
Description: Supports all ArcGIS Raster Datasets
Help: 
Has Raster Attribute Table: false
Edit Fields Info:  null
Ownership Based AccessControl For Rasters:  null
Child Resources:
  
Info
  Histograms
  Key Properties
  Legend
  Raster Function Infos
Supported Operations:
  
Export Image
  Identify
  Measure
  Compute Histograms
  Compute Statistics Histograms
  Get Samples
  Compute Class Statistics
  Query Boundary
  Compute Pixel Location
  Validate
  Project