View In:
  ArcGIS JavaScript
  ArcGIS Map Viewer by SR
  ArcGIS Earth
  ArcMap
View Footprint In:
  ArcGIS Map Viewer by SR
Service Description:  Imagery of Main Branch Park before development.
Name:  Imagery/Drone_04_2021_MainBranchPark
Description:  Imagery of Main Branch Park before development.
Single Fused Map Cache:  false
Extent: 
XMin: 6153853.7339200005
YMin: 2103539.8815800003
XMax: 6154495.15976
YMax: 2104844.72862
Spatial Reference: 102643
 (2227)
Initial Extent:
XMin: 6153853.7339200005
YMin: 2103539.8815800003
XMax: 6154495.15976
YMax: 2104844.72862
Spatial Reference: 102643
 (2227)
Full Extent:
XMin: 6153853.7339200005
YMin: 2103539.8815800003
XMax: 6154495.15976
YMax: 2104844.72862
Spatial Reference: 102643
 (2227)
Pixel Size X: 0.07911999999996185
Pixel Size Y:  0.07911999999999429
Band Count: 4
Pixel Type: U8
RasterFunction Infos:  {"rasterFunctionInfos": [{
 "name": "None",
 "description": "",
 "help": ""
}]}
Mensuration Capabilities: Basic
Has Histograms:  false
Has Colormap:  false
Has Multi Dimensions :  false
Rendering Rule: 
Min Scale:  0
Max Scale:  0
Copyright Text:  AES
Service Data Type:  esriImageServiceDataTypeGeneric
Min Values:  N/A
Max Values:  N/A
Mean Values:  N/A
Standard Deviation Values:  N/A
Object ID Field:  
Fields: 
None
Default Mosaic Method:  Center
Allowed Mosaic Methods:  
SortField:  
SortValue:  null
Mosaic Operator:  First
Default Compression Quality:  75
Default Resampling Method:  Bilinear
Max Record Count:  null
Max Image Height:  4100
Max Image Width:  15000
Max Download Image Count:  null
Max Mosaic Image Count:  null
Allow Raster Function:  true
Allow Copy:  null
Allow Analysis:  null
Allow Compute TiePoints:  false
Supports Statistics:  false
Supports Advanced Queries:  false
Use StandardizedQueries:  true
Raster Type Infos: 
Name: Raster Dataset
Description: Supports all ArcGIS Raster Datasets
Help: 
Has Raster Attribute Table: false
Edit Fields Info:  null
Ownership Based AccessControl For Rasters:  null
Child Resources:
  
Info
  Key Properties
  Legend
  Raster Function Infos
Supported Operations:
  
Export Image
  Identify
  Measure
  Compute Histograms
  Compute Statistics Histograms
  Get Samples
  Compute Class Statistics
  Query Boundary
  Compute Pixel Location
  Validate
  Project