View In:
  ArcGIS JavaScript
  ArcGIS Map Viewer by SR
  ArcGIS Earth
  ArcMap
View Footprint In:
  ArcGIS Map Viewer by SR
Service Description:  Faria Parkway before additional construction activities take place.
Name:  Imagery/Drone_04_2021_FariaParkway
Description:  Faria Parkway before additional construction activities take place.
Single Fused Map Cache:  false
Extent: 
XMin: 6128735.90309
YMin: 2108223.08731
XMax: 6132970.48661
YMax: 2110633.83775
Spatial Reference: 102643
 (2227)
Initial Extent:
XMin: 6128735.90309
YMin: 2108223.08731
XMax: 6132970.48661
YMax: 2110633.83775
Spatial Reference: 102643
 (2227)
Full Extent:
XMin: 6128735.90309
YMin: 2108223.08731
XMax: 6132970.48661
YMax: 2110633.83775
Spatial Reference: 102643
 (2227)
Pixel Size X: 0.058679999999998185
Pixel Size Y:  0.05868000000000221
Band Count: 4
Pixel Type: U8
RasterFunction Infos:  {"rasterFunctionInfos": [
 {
  "name": "None",
  "description": "A No-Op Function.",
  "help": ""
 },
 {
  "name": "Faria_04_2021t",
  "description": "A raster function template.",
  "help": ""
 }
]}
Mensuration Capabilities: Basic
Has Histograms:  false
Has Colormap:  false
Has Multi Dimensions :  false
Rendering Rule: 
Min Scale:  0
Max Scale:  0
Copyright Text:  AES
Service Data Type:  esriImageServiceDataTypeGeneric
Min Values:  N/A
Max Values:  N/A
Mean Values:  N/A
Standard Deviation Values:  N/A
Object ID Field:  
Fields: 
None
Default Mosaic Method:  Center
Allowed Mosaic Methods:  
SortField:  
SortValue:  null
Mosaic Operator:  First
Default Compression Quality:  75
Default Resampling Method:  Bilinear
Max Record Count:  null
Max Image Height:  4100
Max Image Width:  15000
Max Download Image Count:  null
Max Mosaic Image Count:  null
Allow Raster Function:  true
Allow Copy:  null
Allow Analysis:  null
Allow Compute TiePoints:  false
Supports Statistics:  false
Supports Advanced Queries:  false
Use StandardizedQueries:  true
Raster Type Infos: 
Name: Raster Dataset
Description: Supports all ArcGIS Raster Datasets
Help: 
Has Raster Attribute Table: false
Edit Fields Info:  null
Ownership Based AccessControl For Rasters:  null
Child Resources:
  
Info
  Key Properties
  Legend
  Raster Function Infos
Supported Operations:
  
Export Image
  Identify
  Measure
  Compute Histograms
  Compute Statistics Histograms
  Get Samples
  Compute Class Statistics
  Query Boundary
  Compute Pixel Location
  Validate
  Project