View In:
ArcGIS JavaScript
ArcGIS Map Viewer by SR
ArcGIS Earth
ArcMap
View Footprint In:
ArcGIS Map Viewer by SR
Service Description: Aerial photo flown of San Ramon approximately on June 1st, 2014.
Name: Imagery/Aerial_06_01_2014
Description: Aerial photo flown of San Ramon approximately on June 1st, 2014.
Single Fused Map Cache: false
Extent:
XMin: 6110281.935
YMin: 2086682.5619999997
XMax: 6170944.545
YMax: 2126513.6909999996
Spatial Reference: PROJCS["NAD_1983_2011_Lambert_Conformal_Conic",GEOGCS["GCS_NAD_1983_2011",DATUM["D_NAD_1983_2011",SPHEROID["GRS_1980",6378137.0,298.257222101]],PRIMEM["Greenwich",0.0],UNIT["Degree",0.0174532925199433]],PROJECTION["Lambert_Conformal_Conic"],PARAMETER["False_Easting",6561666.667],PARAMETER["False_Northing",1640416.667],PARAMETER["Central_Meridian",-120.5],PARAMETER["Standard_Parallel_1",37.066666666667],PARAMETER["Standard_Parallel_2",38.433333333333],PARAMETER["Latitude_Of_Origin",36.5],UNIT["Foot_US",0.3048006096012192]]
Initial Extent:
XMin: 6110281.935
YMin: 2086682.5619999997
XMax: 6170944.545
YMax: 2126513.6909999996
Spatial Reference: PROJCS["NAD_1983_2011_Lambert_Conformal_Conic",GEOGCS["GCS_NAD_1983_2011",DATUM["D_NAD_1983_2011",SPHEROID["GRS_1980",6378137.0,298.257222101]],PRIMEM["Greenwich",0.0],UNIT["Degree",0.0174532925199433]],PROJECTION["Lambert_Conformal_Conic"],PARAMETER["False_Easting",6561666.667],PARAMETER["False_Northing",1640416.667],PARAMETER["Central_Meridian",-120.5],PARAMETER["Standard_Parallel_1",37.066666666667],PARAMETER["Standard_Parallel_2",38.433333333333],PARAMETER["Latitude_Of_Origin",36.5],UNIT["Foot_US",0.3048006096012192]]
Full Extent:
XMin: 6110281.935
YMin: 2086682.5619999997
XMax: 6170944.545
YMax: 2126513.6909999996
Spatial Reference: PROJCS["NAD_1983_2011_Lambert_Conformal_Conic",GEOGCS["GCS_NAD_1983_2011",DATUM["D_NAD_1983_2011",SPHEROID["GRS_1980",6378137.0,298.257222101]],PRIMEM["Greenwich",0.0],UNIT["Degree",0.0174532925199433]],PROJECTION["Lambert_Conformal_Conic"],PARAMETER["False_Easting",6561666.667],PARAMETER["False_Northing",1640416.667],PARAMETER["Central_Meridian",-120.5],PARAMETER["Standard_Parallel_1",37.066666666667],PARAMETER["Standard_Parallel_2",38.433333333333],PARAMETER["Latitude_Of_Origin",36.5],UNIT["Foot_US",0.3048006096012192]]
Pixel Size X: 0.33300000000000185
Pixel Size Y: 0.33299999999999963
Band Count: 3
Pixel Type: U8
RasterFunction Infos: {"rasterFunctionInfos": [{
"name": "None",
"description": "",
"help": ""
}]}
Mensuration Capabilities: Basic
Has Histograms: true
Has Colormap: false
Has Multi Dimensions : false
Rendering Rule:
Min Scale: 0
Max Scale: 0
Copyright Text: AES
Service Data Type: esriImageServiceDataTypeRGB
Min Values: 1, 1, 1
Max Values: 255, 255, 255
Mean Values: 164.20244371843, 156.48309656786, 148.03443994874
Standard Deviation Values: 67.167976809446, 66.835085285299, 71.070143488717
Object ID Field:
Fields:
None
Default Mosaic Method: Center
Allowed Mosaic Methods:
SortField:
SortValue: null
Mosaic Operator: First
Default Compression Quality: 75
Default Resampling Method: Bilinear
Max Record Count: null
Max Image Height: 4100
Max Image Width: 15000
Max Download Image Count: null
Max Mosaic Image Count: null
Allow Raster Function: true
Allow Copy: null
Allow Analysis: null
Allow Compute TiePoints: false
Supports Statistics: false
Supports Advanced Queries: false
Use StandardizedQueries: true
Raster Type Infos:
Name: Raster Dataset
Description: Supports all ArcGIS Raster Datasets
Help:
Has Raster Attribute Table: false
Edit Fields Info: null
Ownership Based AccessControl For Rasters: null
Child Resources:
Info
Histograms
Key Properties
Legend
Raster Function Infos
Supported Operations:
Export Image
Identify
Measure
Compute Histograms
Compute Statistics Histograms
Get Samples
Compute Class Statistics
Query Boundary
Compute Pixel Location
Validate
Project