{
 "currentVersion": 10.81,
 "serviceDescription": "Drone flight to capture the completed construction in the Faria neighborhood for tax purposes FY 2020/2021. Date of flight approximately 06/15/2020.",
 "name": "Imagery/Drone_06_15_2020_Faria",
 "description": "Drone flight to capture the completed construction in the Faria neighborhood for tax purposes FY 2020/2021. Date of flight approximately 06/15/2020.",
 "extent": {
  "xmin": 6129108.554380001,
  "ymin": 2108581.75032,
  "xmax": 6132426.26821,
  "ymax": 2111807.02789,
  "spatialReference": {
   "wkid": 102643,
   "latestWkid": 2227
  }
 },
 "initialExtent": {
  "xmin": 6129108.554380001,
  "ymin": 2108581.75032,
  "xmax": 6132426.26821,
  "ymax": 2111807.02789,
  "spatialReference": {
   "wkid": 102643,
   "latestWkid": 2227
  }
 },
 "fullExtent": {
  "xmin": 6129108.554380001,
  "ymin": 2108581.75032,
  "xmax": 6132426.26821,
  "ymax": 2111807.02789,
  "spatialReference": {
   "wkid": 102643,
   "latestWkid": 2227
  }
 },
 "pixelSizeX": 0.0584299999999963,
 "pixelSizeY": 0.05842999999999852,
 "bandCount": 4,
 "pixelType": "U8",
 "minPixelSize": 0,
 "maxPixelSize": 0,
 "copyrightText": "AES",
 "serviceDataType": "esriImageServiceDataTypeGeneric",
 "minValues": [],
 "maxValues": [],
 "meanValues": [],
 "stdvValues": [],
 "objectIdField": "",
 "fields": [],
 "capabilities": "Image,Metadata,Mensuration",
 "defaultMosaicMethod": "Center",
 "allowedMosaicMethods": "",
 "sortField": "",
 "sortValue": null,
 "sortAscending": true,
 "mosaicOperator": "First",
 "defaultCompressionQuality": 75,
 "defaultResamplingMethod": "Bilinear",
 "maxImageHeight": 4100,
 "maxImageWidth": 15000,
 "allowRasterFunction": true,
 "rasterFunctionInfos": [
  {
   "name": "None",
   "description": "",
   "help": ""
  }
 ],
 "rasterTypeInfos": [
  {
   "name": "Raster Dataset",
   "description": "Supports all ArcGIS Raster Datasets",
   "help": ""
  }
 ],
 "mensurationCapabilities": "Basic",
 "hasHistograms": false,
 "hasColormap": false,
 "hasRasterAttributeTable": false,
 "minScale": 0,
 "maxScale": 0,
 "exportTilesAllowed": false,
 "hasMultidimensions": false,
 "supportsStatistics": false,
 "supportsAdvancedQueries": false,
 "editFieldsInfo": null,
 "ownershipBasedAccessControlForRasters": null,
 "allowComputeTiePoints": false,
 "useStandardizedQueries": true,
 "advancedQueryCapabilities": {
  "useStandardizedQueries": true,
  "supportsStatistics": false,
  "supportsOrderBy": false,
  "supportsDistinct": false,
  "supportsPagination": false
 },
 "spatialReference": {
  "wkid": 102643,
  "latestWkid": 2227
 }
}
